Package: peakCombiner Version: 1.1.0 Command: /Library/Frameworks/R.framework/Resources/bin/R CMD INSTALL peakCombiner StartedAt: 2025-11-14 15:11:02 -0500 (Fri, 14 Nov 2025) EndedAt: 2025-11-14 15:11:04 -0500 (Fri, 14 Nov 2025) EllapsedTime: 2.2 seconds RetCode: 0 Status: OK