Package: peakCombiner Version: 1.1.0 Command: /Library/Frameworks/R.framework/Resources/bin/R CMD build --keep-empty-dirs --no-resave-data peakCombiner StartedAt: 2025-11-14 17:15:55 -0500 (Fri, 14 Nov 2025) EndedAt: 2025-11-14 17:16:10 -0500 (Fri, 14 Nov 2025) EllapsedTime: 15.2 seconds RetCode: 0 Status: OK PackageFile: peakCombiner_1.1.0.tar.gz PackageFileSize: 368.3 KiB