Package: peakCombiner Version: 1.1.0 Command: rm -rf peakCombiner.buildbin-libdir && mkdir peakCombiner.buildbin-libdir && /Users/biocbuild/BBS/utils/build-universal.sh peakCombiner_1.1.0.tar.gz /Library/Frameworks/R.framework/Resources/bin/R peakCombiner.buildbin-libdir StartedAt: 2025-11-14 23:45:09 -0500 (Fri, 14 Nov 2025) EndedAt: 2025-11-14 23:45:12 -0500 (Fri, 14 Nov 2025) EllapsedTime: 3.1 seconds RetCode: 0 Status: OK PackageFile: peakCombiner_1.1.0.tgz PackageFileSize: 453.3 KiB