Package: pcaMethods Version: 2.3.0 Command: /Library/Frameworks/R.framework/Resources/bin/R CMD INSTALL pcaMethods StartedAt: 2025-11-13 15:06:56 -0500 (Thu, 13 Nov 2025) EndedAt: 2025-11-13 15:07:01 -0500 (Thu, 13 Nov 2025) EllapsedTime: 4.4 seconds RetCode: 0 Status: OK