Package: pcaMethods Version: 2.3.0 Command: rm -rf pcaMethods.buildbin-libdir && mkdir pcaMethods.buildbin-libdir && /Users/biocbuild/BBS/utils/build-universal.sh pcaMethods_2.3.0.tar.gz /Library/Frameworks/R.framework/Resources/bin/R pcaMethods.buildbin-libdir StartedAt: 2025-11-12 21:05:56 -0500 (Wed, 12 Nov 2025) EndedAt: 2025-11-12 21:06:02 -0500 (Wed, 12 Nov 2025) EllapsedTime: 6.1 seconds RetCode: 0 Status: OK PackageFile: pcaMethods_2.3.0.tgz PackageFileSize: 1.441 MiB