Package: pcaExplorer Version: 3.5.0 Command: /home/biocbuild/bbs-3.23-bioc/R/bin/R CMD INSTALL pcaExplorer StartedAt: 2025-11-14 15:50:27 -0500 (Fri, 14 Nov 2025) EndedAt: 2025-11-14 15:51:20 -0500 (Fri, 14 Nov 2025) EllapsedTime: 53.7 seconds RetCode: 0 Status: OK