Package: pcaExplorer Version: 3.5.0 Command: /Library/Frameworks/R.framework/Resources/bin/R CMD build --keep-empty-dirs --no-resave-data pcaExplorer StartedAt: 2025-11-13 17:18:21 -0500 (Thu, 13 Nov 2025) EndedAt: 2025-11-13 17:19:12 -0500 (Thu, 13 Nov 2025) EllapsedTime: 51.5 seconds RetCode: 0 Status: OK PackageFile: pcaExplorer_3.5.0.tar.gz PackageFileSize: 10.77 MiB