Package: pcaExplorer Version: 3.5.0 Maintainer: Federico Marini MaintainerEmail: marinif at uni-mainz.de git_url: https://git.bioconductor.org/packages/pcaExplorer git_branch: devel git_last_commit: 4e88ee9 git_last_commit_date: 2025-10-29 10:31:39 -0500 (Wed, 29 Oct 2025)