Package: pathwayPCA Version: 1.27.0 Command: /home/biocbuild/bbs-3.23-bioc/R/bin/R CMD INSTALL pathwayPCA StartedAt: 2025-11-14 15:06:02 -0500 (Fri, 14 Nov 2025) EndedAt: 2025-11-14 15:06:17 -0500 (Fri, 14 Nov 2025) EllapsedTime: 14.8 seconds RetCode: 0 Status: OK