Package: pathwayPCA Version: 1.27.0 Command: /Library/Frameworks/R.framework/Resources/bin/R CMD build --keep-empty-dirs --no-resave-data pathwayPCA StartedAt: 2025-11-13 17:18:18 -0500 (Thu, 13 Nov 2025) EndedAt: 2025-11-13 17:19:17 -0500 (Thu, 13 Nov 2025) EllapsedTime: 59.6 seconds RetCode: 0 Status: OK PackageFile: pathwayPCA_1.27.0.tar.gz PackageFileSize: 3.481 MiB