Package: pathwayPCA Version: 1.27.0 Command: rm -rf pathwayPCA.buildbin-libdir && mkdir pathwayPCA.buildbin-libdir && /Users/biocbuild/BBS/utils/build-universal.sh pathwayPCA_1.27.0.tar.gz /Library/Frameworks/R.framework/Resources/bin/R pathwayPCA.buildbin-libdir StartedAt: 2025-11-13 23:49:58 -0500 (Thu, 13 Nov 2025) EndedAt: 2025-11-13 23:50:03 -0500 (Thu, 13 Nov 2025) EllapsedTime: 5.1 seconds RetCode: 0 Status: OK PackageFile: pathwayPCA_1.27.0.tgz PackageFileSize: 3.443 MiB