Package: pathwayPCA Version: 1.27.0 Maintainer: Gabriel Odom MaintainerEmail: gabriel.odom at med.miami.edu git_url: https://git.bioconductor.org/packages/pathwayPCA git_branch: devel git_last_commit: 9b31249 git_last_commit_date: 2025-10-29 10:50:50 -0500 (Wed, 29 Oct 2025)