Package: pathview Version: 1.51.0 Command: /home/biocbuild/bbs-3.23-bioc/R/bin/R CMD INSTALL pathview StartedAt: 2025-11-14 15:26:56 -0500 (Fri, 14 Nov 2025) EndedAt: 2025-11-14 15:27:13 -0500 (Fri, 14 Nov 2025) EllapsedTime: 17.7 seconds RetCode: 0 Status: OK