Package: pathview Version: 1.51.0 Command: /Library/Frameworks/R.framework/Resources/bin/R CMD INSTALL pathview StartedAt: 2025-11-12 15:29:06 -0500 (Wed, 12 Nov 2025) EndedAt: 2025-11-12 15:29:14 -0500 (Wed, 12 Nov 2025) EllapsedTime: 7.5 seconds RetCode: 0 Status: OK