Package: pathview Version: 1.51.0 Command: /Library/Frameworks/R.framework/Resources/bin/R CMD build --keep-empty-dirs --no-resave-data pathview StartedAt: 2025-11-12 16:54:29 -0500 (Wed, 12 Nov 2025) EndedAt: 2025-11-12 16:55:24 -0500 (Wed, 12 Nov 2025) EllapsedTime: 54.6 seconds RetCode: 0 Status: OK PackageFile: pathview_1.51.0.tar.gz PackageFileSize: 2.429 MiB