Package: pathview Version: 1.51.0 Command: rm -rf pathview.buildbin-libdir && mkdir pathview.buildbin-libdir && /Users/biocbuild/BBS/utils/build-universal.sh pathview_1.51.0.tar.gz /Library/Frameworks/R.framework/Resources/bin/R pathview.buildbin-libdir StartedAt: 2025-11-12 21:05:55 -0500 (Wed, 12 Nov 2025) EndedAt: 2025-11-12 21:06:04 -0500 (Wed, 12 Nov 2025) EllapsedTime: 9.2 seconds RetCode: 0 Status: OK PackageFile: pathview_1.51.0.tgz PackageFileSize: 2.73 MiB