Package: pathview Version: 1.51.0 Maintainer: Weijun Luo MaintainerEmail: luo_weijun at yahoo.com git_url: https://git.bioconductor.org/packages/pathview git_branch: devel git_last_commit: b31fe1e git_last_commit_date: 2025-10-29 10:14:01 -0500 (Wed, 29 Oct 2025)