Package: pathlinkR Version: 1.7.3 Command: /home/biocbuild/bbs-3.23-bioc/R/bin/R CMD INSTALL pathlinkR StartedAt: 2025-11-14 15:48:14 -0500 (Fri, 14 Nov 2025) EndedAt: 2025-11-14 15:48:30 -0500 (Fri, 14 Nov 2025) EllapsedTime: 16.2 seconds RetCode: 0 Status: OK