Package: pathlinkR Version: 1.7.3 Command: /Library/Frameworks/R.framework/Resources/bin/R CMD INSTALL pathlinkR StartedAt: 2025-11-13 15:27:58 -0500 (Thu, 13 Nov 2025) EndedAt: 2025-11-13 15:28:04 -0500 (Thu, 13 Nov 2025) EllapsedTime: 6.2 seconds RetCode: 0 Status: OK