Package: pathlinkR Version: 1.7.3 Command: /Library/Frameworks/R.framework/Resources/bin/R CMD build --keep-empty-dirs --no-resave-data pathlinkR StartedAt: 2025-11-13 17:17:54 -0500 (Thu, 13 Nov 2025) EndedAt: 2025-11-13 17:19:19 -0500 (Thu, 13 Nov 2025) EllapsedTime: 84.9 seconds RetCode: 0 Status: OK PackageFile: pathlinkR_1.7.3.tar.gz PackageFileSize: 4.736 MiB