Package: pathlinkR Version: 1.7.3 Command: rm -rf pathlinkR.buildbin-libdir && mkdir pathlinkR.buildbin-libdir && /Users/biocbuild/BBS/utils/build-universal.sh pathlinkR_1.7.3.tar.gz /Library/Frameworks/R.framework/Resources/bin/R pathlinkR.buildbin-libdir StartedAt: 2025-11-13 23:49:56 -0500 (Thu, 13 Nov 2025) EndedAt: 2025-11-13 23:50:06 -0500 (Thu, 13 Nov 2025) EllapsedTime: 9.3 seconds RetCode: 0 Status: OK PackageFile: pathlinkR_1.7.3.tgz PackageFileSize: 4.866 MiB