Package: pathlinkR Version: 1.7.3 Maintainer: Travis Blimkie MaintainerEmail: travis.m.blimkie at gmail.com git_url: https://git.bioconductor.org/packages/pathlinkR git_branch: devel git_last_commit: b21e90a git_last_commit_date: 2025-11-06 18:28:12 -0500 (Thu, 06 Nov 2025)