Package: pathifier Version: 1.49.0 Command: /home/biocbuild/bbs-3.23-bioc/R/bin/R CMD build --keep-empty-dirs --no-resave-data pathifier StartedAt: 2025-11-13 19:11:37 -0500 (Thu, 13 Nov 2025) EndedAt: 2025-11-13 19:11:55 -0500 (Thu, 13 Nov 2025) EllapsedTime: 18.0 seconds RetCode: 0 Status: OK PackageFile: pathifier_1.49.0.tar.gz PackageFileSize: 2.033 MiB