Package: pathifier Version: 1.49.0 Command: /Library/Frameworks/R.framework/Resources/bin/R CMD build --keep-empty-dirs --no-resave-data pathifier StartedAt: 2025-11-12 16:54:18 -0500 (Wed, 12 Nov 2025) EndedAt: 2025-11-12 16:54:28 -0500 (Wed, 12 Nov 2025) EllapsedTime: 10.1 seconds RetCode: 0 Status: OK PackageFile: pathifier_1.49.0.tar.gz PackageFileSize: 2.033 MiB