Package: pathifier Version: 1.49.0 Command: rm -rf pathifier.buildbin-libdir && mkdir pathifier.buildbin-libdir && /Users/biocbuild/BBS/utils/build-universal.sh pathifier_1.49.0.tar.gz /Library/Frameworks/R.framework/Resources/bin/R pathifier.buildbin-libdir StartedAt: 2025-11-13 23:49:54 -0500 (Thu, 13 Nov 2025) EndedAt: 2025-11-13 23:49:56 -0500 (Thu, 13 Nov 2025) EllapsedTime: 2.1 seconds RetCode: 0 Status: OK PackageFile: pathifier_1.49.0.tgz PackageFileSize: 2.058 MiB