Package: pathifier Version: 1.49.0 Maintainer: Assif Yitzhaky MaintainerEmail: assif.yitzhaky at weizmann.ac.il git_url: https://git.bioconductor.org/packages/pathifier git_branch: devel git_last_commit: f57c93e git_last_commit_date: 2025-10-29 10:15:17 -0500 (Wed, 29 Oct 2025)