Package: pathRender Version: 1.79.0 Command: /home/biocbuild/bbs-3.23-bioc/R/bin/R CMD INSTALL pathRender StartedAt: 2025-11-13 15:25:51 -0500 (Thu, 13 Nov 2025) EndedAt: 2025-11-13 15:26:05 -0500 (Thu, 13 Nov 2025) EllapsedTime: 13.9 seconds RetCode: 0 Status: OK