Package: pathRender Version: 1.79.0 Command: /Library/Frameworks/R.framework/Resources/bin/R CMD INSTALL pathRender StartedAt: 2025-11-13 15:08:56 -0500 (Thu, 13 Nov 2025) EndedAt: 2025-11-13 15:09:01 -0500 (Thu, 13 Nov 2025) EllapsedTime: 5.5 seconds RetCode: 0 Status: OK