Package: pathRender Version: 1.79.0 Command: rm -rf pathRender.buildbin-libdir && mkdir pathRender.buildbin-libdir && /Users/biocbuild/BBS/utils/build-universal.sh pathRender_1.79.0.tar.gz /Library/Frameworks/R.framework/Resources/bin/R pathRender.buildbin-libdir StartedAt: 2025-11-13 23:49:56 -0500 (Thu, 13 Nov 2025) EndedAt: 2025-11-13 23:50:04 -0500 (Thu, 13 Nov 2025) EllapsedTime: 7.2 seconds RetCode: 0 Status: OK PackageFile: pathRender_1.79.0.tgz PackageFileSize: 357.7 KiB