Package: pathRender Version: 1.79.0 Maintainer: Vince Carey MaintainerEmail: stvjc at channing.harvard.edu git_url: https://git.bioconductor.org/packages/pathRender git_branch: devel git_last_commit: d982243 git_last_commit_date: 2025-10-29 09:57:23 -0500 (Wed, 29 Oct 2025)