Package: pathMED Version: 1.3.0 Command: /Library/Frameworks/R.framework/Resources/bin/R CMD INSTALL pathMED StartedAt: 2025-11-13 15:32:52 -0500 (Thu, 13 Nov 2025) EndedAt: 2025-11-13 15:32:57 -0500 (Thu, 13 Nov 2025) EllapsedTime: 5.2 seconds RetCode: 0 Status: OK