Package: pathMED Version: 1.3.0 Command: /Library/Frameworks/R.framework/Resources/bin/R CMD build --keep-empty-dirs --no-resave-data pathMED StartedAt: 2025-11-13 17:17:56 -0500 (Thu, 13 Nov 2025) EndedAt: 2025-11-13 17:18:31 -0500 (Thu, 13 Nov 2025) EllapsedTime: 34.4 seconds RetCode: 0 Status: OK PackageFile: pathMED_1.3.0.tar.gz PackageFileSize: 6.348 MiB