Package: pathMED Version: 1.3.0 Command: rm -rf pathMED.buildbin-libdir && mkdir pathMED.buildbin-libdir && /Users/biocbuild/BBS/utils/build-universal.sh pathMED_1.3.0.tar.gz /Library/Frameworks/R.framework/Resources/bin/R pathMED.buildbin-libdir StartedAt: 2025-11-13 23:49:56 -0500 (Thu, 13 Nov 2025) EndedAt: 2025-11-13 23:50:04 -0500 (Thu, 13 Nov 2025) EllapsedTime: 7.2 seconds RetCode: 0 Status: OK PackageFile: pathMED_1.3.0.tgz PackageFileSize: 6.338 MiB