Package: pathMED Version: 1.3.0 Maintainer: Jordi Martorell-Marugán MaintainerEmail: jmartorellm at gmail.com git_url: https://git.bioconductor.org/packages/pathMED git_branch: devel git_last_commit: 721d804 git_last_commit_date: 2025-10-29 11:36:06 -0500 (Wed, 29 Oct 2025)