Package: parglms Version: 1.43.0 Command: /Library/Frameworks/R.framework/Resources/bin/R CMD INSTALL parglms StartedAt: 2025-11-23 15:20:16 -0500 (Sun, 23 Nov 2025) EndedAt: 2025-11-23 15:20:18 -0500 (Sun, 23 Nov 2025) EllapsedTime: 2.6 seconds RetCode: 0 Status: OK