Package: parglms Version: 1.43.0 Command: /Library/Frameworks/R.framework/Resources/bin/R CMD build --keep-empty-dirs --no-resave-data parglms StartedAt: 2025-11-21 17:14:11 -0500 (Fri, 21 Nov 2025) EndedAt: 2025-11-21 17:14:20 -0500 (Fri, 21 Nov 2025) EllapsedTime: 9.1 seconds RetCode: 0 Status: OK PackageFile: parglms_1.43.0.tar.gz PackageFileSize: 273.3 KiB