Package: panelcn.mops Version: 1.33.0 Command: /home/biocbuild/bbs-3.23-bioc/R/bin/R CMD INSTALL panelcn.mops StartedAt: 2025-11-11 15:38:24 -0500 (Tue, 11 Nov 2025) EndedAt: 2025-11-11 15:38:38 -0500 (Tue, 11 Nov 2025) EllapsedTime: 13.3 seconds RetCode: 0 Status: OK