Package: panelcn.mops Version: 1.33.0 Command: /Library/Frameworks/R.framework/Resources/bin/R CMD INSTALL panelcn.mops StartedAt: 2025-11-13 15:20:19 -0500 (Thu, 13 Nov 2025) EndedAt: 2025-11-13 15:20:24 -0500 (Thu, 13 Nov 2025) EllapsedTime: 5.9 seconds RetCode: 0 Status: OK