Package: panelcn.mops Version: 1.33.0 Command: /Library/Frameworks/R.framework/Resources/bin/R CMD build --keep-empty-dirs --no-resave-data panelcn.mops StartedAt: 2025-11-13 17:17:35 -0500 (Thu, 13 Nov 2025) EndedAt: 2025-11-13 17:17:50 -0500 (Thu, 13 Nov 2025) EllapsedTime: 15.2 seconds RetCode: 0 Status: OK PackageFile: panelcn.mops_1.33.0.tar.gz PackageFileSize: 608.6 KiB