Package: panelcn.mops Version: 1.33.0 Command: rm -rf panelcn.mops.buildbin-libdir && mkdir panelcn.mops.buildbin-libdir && /Users/biocbuild/BBS/utils/build-universal.sh panelcn.mops_1.33.0.tar.gz /Library/Frameworks/R.framework/Resources/bin/R panelcn.mops.buildbin-libdir StartedAt: 2025-11-12 21:05:49 -0500 (Wed, 12 Nov 2025) EndedAt: 2025-11-12 21:05:56 -0500 (Wed, 12 Nov 2025) EllapsedTime: 7.2 seconds RetCode: 0 Status: OK PackageFile: panelcn.mops_1.33.0.tgz PackageFileSize: 468.1 KiB