Package: panelcn.mops Version: 1.33.0 Maintainer: Gundula Povysil MaintainerEmail: povysil at bioinf.jku.at git_url: https://git.bioconductor.org/packages/panelcn.mops git_branch: devel git_last_commit: 5e38d91 git_last_commit_date: 2025-10-29 10:40:57 -0500 (Wed, 29 Oct 2025)