Package: pandaR Version: 1.43.0 Command: /home/biocbuild/bbs-3.23-bioc/R/bin/R CMD INSTALL pandaR StartedAt: 2025-11-14 15:13:21 -0500 (Fri, 14 Nov 2025) EndedAt: 2025-11-14 15:13:30 -0500 (Fri, 14 Nov 2025) EllapsedTime: 8.8 seconds RetCode: 0 Status: OK