Package: pandaR Version: 1.43.0 Command: /home/biocbuild/bbs-3.23-bioc/R/bin/R CMD build --keep-empty-dirs --no-resave-data pandaR StartedAt: 2025-11-13 19:10:47 -0500 (Thu, 13 Nov 2025) EndedAt: 2025-11-13 19:11:30 -0500 (Thu, 13 Nov 2025) EllapsedTime: 43.0 seconds RetCode: 0 Status: OK PackageFile: pandaR_1.43.0.tar.gz PackageFileSize: 8.679 MiB