Package: pandaR Version: 1.43.0 Command: rm -rf pandaR.buildbin-libdir && mkdir pandaR.buildbin-libdir && /Users/biocbuild/BBS/utils/build-universal.sh pandaR_1.43.0.tar.gz /Library/Frameworks/R.framework/Resources/bin/R pandaR.buildbin-libdir StartedAt: 2025-11-14 23:44:55 -0500 (Fri, 14 Nov 2025) EndedAt: 2025-11-14 23:45:00 -0500 (Fri, 14 Nov 2025) EllapsedTime: 5.1 seconds RetCode: 0 Status: OK PackageFile: pandaR_1.43.0.tgz PackageFileSize: 9.1 MiB