Package: pandaR Version: 1.43.0 Maintainer: Joseph N. Paulson , Dan Schlauch MaintainerEmail: dschlauch at genospace.com git_url: https://git.bioconductor.org/packages/pandaR git_branch: devel git_last_commit: 92841f9 git_last_commit_date: 2025-10-29 10:25:42 -0500 (Wed, 29 Oct 2025)