Package: pairedGSEA Version: 1.11.0 Command: /home/biocbuild/bbs-3.23-bioc/R/bin/R CMD INSTALL pairedGSEA StartedAt: 2025-11-21 15:36:31 -0500 (Fri, 21 Nov 2025) EndedAt: 2025-11-21 15:37:04 -0500 (Fri, 21 Nov 2025) EllapsedTime: 33.8 seconds RetCode: 0 Status: OK