Package: pairedGSEA Version: 1.11.0 Command: /home/biocbuild/bbs-3.23-bioc/R/bin/R CMD build --keep-empty-dirs --no-resave-data pairedGSEA StartedAt: 2025-11-21 19:13:26 -0500 (Fri, 21 Nov 2025) EndedAt: 2025-11-21 19:16:22 -0500 (Fri, 21 Nov 2025) EllapsedTime: 176.3 seconds RetCode: 0 Status: OK PackageFile: pairedGSEA_1.11.0.tar.gz PackageFileSize: 565.5 KiB