Package: paircompviz Version: 1.49.0 Command: /home/biocbuild/bbs-3.23-bioc/R/bin/R CMD INSTALL paircompviz StartedAt: 2025-11-13 15:14:58 -0500 (Thu, 13 Nov 2025) EndedAt: 2025-11-13 15:15:02 -0500 (Thu, 13 Nov 2025) EllapsedTime: 3.8 seconds RetCode: 0 Status: OK