Package: paircompviz Version: 1.49.0 Command: /Library/Frameworks/R.framework/Resources/bin/R CMD INSTALL paircompviz StartedAt: 2025-11-13 15:08:15 -0500 (Thu, 13 Nov 2025) EndedAt: 2025-11-13 15:08:17 -0500 (Thu, 13 Nov 2025) EllapsedTime: 2.5 seconds RetCode: 0 Status: OK