Package: paircompviz Version: 1.49.0 Maintainer: Michal Burda MaintainerEmail: michal.burda at osu.cz git_url: https://git.bioconductor.org/packages/paircompviz git_branch: devel git_last_commit: 597b329 git_last_commit_date: 2025-10-29 10:15:14 -0500 (Wed, 29 Oct 2025)